BEGIN:VCALENDAR
VERSION:2.0
PRODID:-//Lodge Bridge of Fellowship No. 929 - ECPv6.15.20//NONSGML v1.0//EN
CALSCALE:GREGORIAN
METHOD:PUBLISH
X-ORIGINAL-URL:https://lbof929.org
X-WR-CALDESC:Events for Lodge Bridge of Fellowship No. 929
REFRESH-INTERVAL;VALUE=DURATION:PT1H
X-Robots-Tag:noindex
X-PUBLISHED-TTL:PT1H
BEGIN:VTIMEZONE
TZID:Europe/Berlin
BEGIN:DAYLIGHT
TZOFFSETFROM:+0100
TZOFFSETTO:+0200
TZNAME:CEST
DTSTART:20250330T010000
END:DAYLIGHT
BEGIN:STANDARD
TZOFFSETFROM:+0200
TZOFFSETTO:+0100
TZNAME:CET
DTSTART:20251026T010000
END:STANDARD
BEGIN:DAYLIGHT
TZOFFSETFROM:+0100
TZOFFSETTO:+0200
TZNAME:CEST
DTSTART:20260329T010000
END:DAYLIGHT
BEGIN:STANDARD
TZOFFSETFROM:+0200
TZOFFSETTO:+0100
TZNAME:CET
DTSTART:20261025T010000
END:STANDARD
BEGIN:DAYLIGHT
TZOFFSETFROM:+0100
TZOFFSETTO:+0200
TZNAME:CEST
DTSTART:20270328T010000
END:DAYLIGHT
BEGIN:STANDARD
TZOFFSETFROM:+0200
TZOFFSETTO:+0100
TZNAME:CET
DTSTART:20271031T010000
END:STANDARD
END:VTIMEZONE
BEGIN:VEVENT
DTSTART;TZID=Europe/Berlin:20261216T190000
DTEND;TZID=Europe/Berlin:20261216T220000
DTSTAMP:20260423T002901
CREATED:20260325T111111Z
LAST-MODIFIED:20260325T111111Z
UID:599-1797447600-1797458400@lbof929.org
SUMMARY:Raising Meeting
DESCRIPTION:Content is protected.
URL:https://lbof929.org/event/raising-meeting/
LOCATION:Private: Lodge Building\, Lemförder Straße 7\, Hannover\, Niedersachsen\, 30169\, Germany
CATEGORIES:Special Event
END:VEVENT
END:VCALENDAR